BEGIN:VCALENDAR
VERSION:2.0
PRODID:-//Dublin Films - ECPv6.11.2.1//NONSGML v1.0//EN
CALSCALE:GREGORIAN
METHOD:PUBLISH
X-WR-CALNAME:Dublin Films
X-ORIGINAL-URL:https://dublinfilms.fr
X-WR-CALDESC:Évènements pour Dublin Films
REFRESH-INTERVAL;VALUE=DURATION:PT1H
X-Robots-Tag:noindex
X-PUBLISHED-TTL:PT1H
BEGIN:VTIMEZONE
TZID:Europe/Paris
BEGIN:DAYLIGHT
TZOFFSETFROM:+0100
TZOFFSETTO:+0200
TZNAME:CEST
DTSTART:20240331T010000
END:DAYLIGHT
BEGIN:STANDARD
TZOFFSETFROM:+0200
TZOFFSETTO:+0100
TZNAME:CET
DTSTART:20241027T010000
END:STANDARD
END:VTIMEZONE
BEGIN:VTIMEZONE
TZID:Europe/Berlin
BEGIN:DAYLIGHT
TZOFFSETFROM:+0100
TZOFFSETTO:+0200
TZNAME:CEST
DTSTART:20240331T010000
END:DAYLIGHT
BEGIN:STANDARD
TZOFFSETFROM:+0200
TZOFFSETTO:+0100
TZNAME:CET
DTSTART:20241027T010000
END:STANDARD
END:VTIMEZONE
BEGIN:VTIMEZONE
TZID:Europe/Istanbul
BEGIN:STANDARD
TZOFFSETFROM:+0300
TZOFFSETTO:+0300
TZNAME:+03
DTSTART:20240101T000000
END:STANDARD
END:VTIMEZONE
BEGIN:VEVENT
DTSTART;TZID=Europe/Paris:20240218T183000
DTEND;TZID=Europe/Paris:20240218T203000
DTSTAMP:20260421T160114
CREATED:20240205T105028Z
LAST-MODIFIED:20240207T110514Z
UID:8617-1708281000-1708288200@dublinfilms.fr
SUMMARY:Première mondiale de J'ai vu trois lumières noires à la Berlinale
DESCRIPTION:Première mondiale de J’ai vu trois lumières noires le 18 février à 18h30 au Cubix 9 à Berlin\, à l’occasion de la 74ème Berlinale. Le film fait partie de la section Panorama.
URL:https://dublinfilms.fr/event/premiere-mondiale-de-jai-vu-trois-lumieres-noires-a-la-berlinale/
LOCATION:Cubix\, Rathausstr. 1\, Berlin\, 10178\, Allemagne
END:VEVENT
BEGIN:VEVENT
DTSTART;TZID=Europe/Berlin:20240219T220000
DTEND;TZID=Europe/Berlin:20240219T233000
DTSTAMP:20260421T160114
CREATED:20240207T110512Z
LAST-MODIFIED:20240207T111334Z
UID:8769-1708380000-1708385400@dublinfilms.fr
SUMMARY:Projection de J'ai vu trois lumières noires à la Berlinale
DESCRIPTION:Projection de J’ai vu trois lumières noires le 19 février à 22h au Zoo Palast 2 à Berlin\, à l’occasion de la 74ème Berlinale. Le film fait partie de la section Panorama.
URL:https://dublinfilms.fr/event/projection-de-jai-vu-trois-lumieres-noires-a-la-berlinale-2/
LOCATION:Zoo Palast 2\, Hardenbergstraße 29A\, Berlin\, 10623\, Allemagne
END:VEVENT
BEGIN:VEVENT
DTSTART;TZID=Europe/Paris:20240220T124500
DTEND;TZID=Europe/Paris:20240220T140000
DTSTAMP:20260421T160114
CREATED:20240207T110510Z
LAST-MODIFIED:20240207T110510Z
UID:8775-1708433100-1708437600@dublinfilms.fr
SUMMARY:Projection de J'ai vu trois lumières noires à la Berlinale
DESCRIPTION:Projection de J’ai vu trois lumières noires le 20 février à 12h45 au Cubix 5 à Berlin\, à l’occasion de la 74ème Berlinale. Le film fait partie de la section Panorama.
URL:https://dublinfilms.fr/event/projection-de-jai-vu-trois-lumieres-noires-a-la-berlinale/
LOCATION:Cubix\, Rathausstr. 1\, Berlin\, 10178\, Allemagne
END:VEVENT
BEGIN:VEVENT
DTSTART;TZID=Europe/Paris:20240221T153000
DTEND;TZID=Europe/Paris:20240221T170000
DTSTAMP:20260421T160114
CREATED:20240207T112108Z
LAST-MODIFIED:20240207T112108Z
UID:8793-1708529400-1708534800@dublinfilms.fr
SUMMARY:Projection de J'ai vu trois lumières noires à la Berlinale
DESCRIPTION:Projection de J’ai vu trois lumières noires le 21 février à 15h30 au Cineplex Titania à Berlin\, à l’occasion de la 74ème Berlinale. Le film fait partie de la section Panorama.
URL:https://dublinfilms.fr/event/projection-de-jai-vu-trois-lumieres-noires-a-la-berlinale-3/
LOCATION:Cineplex Titania\, Gutsmuthsstraße 27/28\, Berlin\, 12163\, Allemagne
END:VEVENT
BEGIN:VEVENT
DTSTART;TZID=Europe/Istanbul:20240223T143000
DTEND;TZID=Europe/Istanbul:20240223T160000
DTSTAMP:20260421T160114
CREATED:20240222T114251Z
LAST-MODIFIED:20240222T114713Z
UID:8912-1708698600-1708704000@dublinfilms.fr
SUMMARY:Projection de Anhell69 au PinkLife QueerFest
DESCRIPTION:Projection de Anhell69 de Theo Montoya le 23 février à 14h30 au Makina Mühendisleri Odası Eğitim & Kültür Merkezi’nde à Ankara (Turquie)\, à l’occasion du Pink Life QueerFest.
URL:https://dublinfilms.fr/event/projection-de-anhell69-au-pinklife-queerfest/
LOCATION:Makina Mühendisleri Odası Eğitim & Kültür Merkezi’nde\, Kocatepe\, Selanik Cd No:76\, Ankara\, 06420\, Turquie
END:VEVENT
BEGIN:VEVENT
DTSTART;TZID=Europe/Paris:20240223T180000
DTEND;TZID=Europe/Paris:20240223T193000
DTSTAMP:20260421T160114
CREATED:20240207T133817Z
LAST-MODIFIED:20240207T133817Z
UID:8811-1708711200-1708716600@dublinfilms.fr
SUMMARY:Projection de Diógenes à Delémont
DESCRIPTION:Projection de Diógenes le 23 février à 18h au cinéma La Grange à Delémont\, en Suisse.
URL:https://dublinfilms.fr/event/projection-de-diogenes-a-delemont/
LOCATION:Cinéma La Grange\, Rue des Granges 13\, Delémont\, 2800\, Suisse
END:VEVENT
BEGIN:VEVENT
DTSTART;TZID=Europe/Paris:20240223T213000
DTEND;TZID=Europe/Paris:20240223T223000
DTSTAMP:20260421T160114
CREATED:20240207T113237Z
LAST-MODIFIED:20240207T113237Z
UID:8800-1708723800-1708727400@dublinfilms.fr
SUMMARY:Projection de J'ai vu trois lumières noires à la Berlinale
DESCRIPTION:Projection de J’ai vu trois lumières noires le 23 février à 21h30 au Cubix 8 à Berlin\, à l’occasion de la 74ème Berlinale. Le film fait partie de la section Panorama.
URL:https://dublinfilms.fr/event/projection-de-jai-vu-trois-lumieres-noires-a-la-berlinale-4/
LOCATION:Cubix\, Rathausstr. 1\, Berlin\, 10178\, Allemagne
END:VEVENT
END:VCALENDAR