BEGIN:VCALENDAR
VERSION:2.0
PRODID:-//Dublin Films - ECPv6.11.2.1//NONSGML v1.0//EN
CALSCALE:GREGORIAN
METHOD:PUBLISH
X-ORIGINAL-URL:https://dublinfilms.fr
X-WR-CALDESC:Évènements pour Dublin Films
REFRESH-INTERVAL;VALUE=DURATION:PT1H
X-Robots-Tag:noindex
X-PUBLISHED-TTL:PT1H
BEGIN:VTIMEZONE
TZID:Europe/Vienna
BEGIN:DAYLIGHT
TZOFFSETFROM:+0100
TZOFFSETTO:+0200
TZNAME:CEST
DTSTART:20240331T010000
END:DAYLIGHT
BEGIN:STANDARD
TZOFFSETFROM:+0200
TZOFFSETTO:+0100
TZNAME:CET
DTSTART:20241027T010000
END:STANDARD
END:VTIMEZONE
BEGIN:VEVENT
DTSTART;TZID=Europe/Vienna:20240316T210000
DTEND;TZID=Europe/Vienna:20240316T223000
DTSTAMP:20260421T174852
CREATED:20240304T112106Z
LAST-MODIFIED:20240304T112845Z
UID:9060-1710622800-1710628200@dublinfilms.fr
SUMMARY:Projection de Anhell69 au San Diego Latino Film Festival
DESCRIPTION:Projection de Anhell69  le 16 mars à 21h au cinéma AMC Mission Valley 20 à San Diego (États-Unis)\, à l’occasion du San Diego Latino Film Festival. Le film fait partie de la section ¡Somos! Cine LGBTQIA+ Showcase.
URL:https://dublinfilms.fr/event/projection-de-anhell69-au-san-diego-latino-film-festival/
LOCATION:AMC Mission Valley 20\, 1640 Camino Del Rio N\, San Diego\, CA\, 92018\, USA
END:VEVENT
END:VCALENDAR