BEGIN:VCALENDAR
VERSION:2.0
PRODID:-//Dublin Films - ECPv6.11.2.1//NONSGML v1.0//EN
CALSCALE:GREGORIAN
METHOD:PUBLISH
X-ORIGINAL-URL:https://dublinfilms.fr
X-WR-CALDESC:Évènements pour Dublin Films
REFRESH-INTERVAL;VALUE=DURATION:PT1H
X-Robots-Tag:noindex
X-PUBLISHED-TTL:PT1H
BEGIN:VTIMEZONE
TZID:America/Lima
BEGIN:STANDARD
TZOFFSETFROM:-0500
TZOFFSETTO:-0500
TZNAME:-05
DTSTART:20240101T000000
END:STANDARD
END:VTIMEZONE
BEGIN:VEVENT
DTSTART;TZID=America/Lima:20240317T163000
DTEND;TZID=America/Lima:20240317T180000
DTSTAMP:20260421T160434
CREATED:20240226T142713Z
LAST-MODIFIED:20240226T142749Z
UID:8975-1710693000-1710698400@dublinfilms.fr
SUMMARY:Projection de Diógenes au LATcinema Fest
DESCRIPTION:Projection de Diógenes de Leonardo Barbuy le 17 mars à 16h30 au Cinemes Girona à Barcelone (Espagne)\, à l’occasion du LATcinema Fest organisé par la Casa Àmerica Catalunya.
URL:https://dublinfilms.fr/event/projection-de-diogenes-au-latcinema-fest/
LOCATION:Cinemes Girona\, C/ de Girona\, 175\, L'Eixample\, Barcelone\, 08037\, Espagne
END:VEVENT
END:VCALENDAR