BEGIN:VCALENDAR
VERSION:2.0
PRODID:-//Dublin Films - ECPv6.11.2.1//NONSGML v1.0//EN
CALSCALE:GREGORIAN
METHOD:PUBLISH
X-WR-CALNAME:Dublin Films
X-ORIGINAL-URL:https://dublinfilms.fr
X-WR-CALDESC:Évènements pour Dublin Films
REFRESH-INTERVAL;VALUE=DURATION:PT1H
X-Robots-Tag:noindex
X-PUBLISHED-TTL:PT1H
BEGIN:VTIMEZONE
TZID:Europe/Vienna
BEGIN:DAYLIGHT
TZOFFSETFROM:+0100
TZOFFSETTO:+0200
TZNAME:CEST
DTSTART:20240331T010000
END:DAYLIGHT
BEGIN:STANDARD
TZOFFSETFROM:+0200
TZOFFSETTO:+0100
TZNAME:CET
DTSTART:20241027T010000
END:STANDARD
END:VTIMEZONE
BEGIN:VEVENT
DTSTART;TZID=Europe/Vienna:20240410T210000
DTEND;TZID=Europe/Vienna:20240410T223000
DTSTAMP:20260421T160216
CREATED:20240326T143630Z
LAST-MODIFIED:20240326T144013Z
UID:9346-1712782800-1712788200@dublinfilms.fr
SUMMARY:Projection de Anhell69 au Festival Internacional de Cine de las Alturas
DESCRIPTION:Projection de Anhell69 de Theo Montoya le 10 avril à 21h au Cine Annuar Shopping de Jujuy (Argentine)\, à l’occasion du Festival Internacional de Cine de las Alturas. Le film est sélectionné dans la Compétition documentaire.
URL:https://dublinfilms.fr/event/projection-de-anhell69-au-lateinamerika-filmfestival-3/
LOCATION:Cine Annuar Shopping\, Gral. Belgrano 563\, Jujuy\, Y4600\, Argentina
END:VEVENT
END:VCALENDAR