BEGIN:VCALENDAR
VERSION:2.0
PRODID:-//Dublin Films - ECPv6.11.2.1//NONSGML v1.0//EN
CALSCALE:GREGORIAN
METHOD:PUBLISH
X-ORIGINAL-URL:https://dublinfilms.fr
X-WR-CALDESC:Évènements pour Dublin Films
REFRESH-INTERVAL;VALUE=DURATION:PT1H
X-Robots-Tag:noindex
X-PUBLISHED-TTL:PT1H
BEGIN:VTIMEZONE
TZID:Europe/Vienna
BEGIN:DAYLIGHT
TZOFFSETFROM:+0100
TZOFFSETTO:+0200
TZNAME:CEST
DTSTART:20240331T010000
END:DAYLIGHT
BEGIN:STANDARD
TZOFFSETFROM:+0200
TZOFFSETTO:+0100
TZNAME:CET
DTSTART:20241027T010000
END:STANDARD
END:VTIMEZONE
BEGIN:VEVENT
DTSTART;TZID=Europe/Vienna:20240413T131500
DTEND;TZID=Europe/Vienna:20240413T143000
DTSTAMP:20260421T160434
CREATED:20240326T163958Z
LAST-MODIFIED:20240326T164016Z
UID:9366-1713014100-1713018600@dublinfilms.fr
SUMMARY:Projection de Diógenes au Cine Latino Festival
DESCRIPTION:Projection de Diógenes de Leonardo Barbuy le 14 avril à 13h15 au Filmcasino de Vienne (Autriche)\, à l’occasion du Cine Latino Festival.
URL:https://dublinfilms.fr/event/projection-de-diogenes-au-cine-latino-festival/
LOCATION:Filmcasino\, Margaretenstraße 78\, Vienne\, 1050\, Autriche
END:VEVENT
BEGIN:VEVENT
DTSTART;TZID=Europe/Vienna:20240413T133000
DTEND;TZID=Europe/Vienna:20240413T150000
DTSTAMP:20260421T160434
CREATED:20240326T163650Z
LAST-MODIFIED:20240326T163713Z
UID:9359-1713015000-1713020400@dublinfilms.fr
SUMMARY:Projection de Anhell69 au Cine Latino Festival
DESCRIPTION:Projection de Anhell69 de Theo Montoya le 13 avril à 13h30 au Filmcasino de Vienne (Autriche)\, à l’occasion du Cine Latino Festival.
URL:https://dublinfilms.fr/event/projection-de-anhell69-au-cine-latino-festival/
LOCATION:Filmcasino\, Margaretenstraße 78\, Vienne\, 1050\, Autriche
END:VEVENT
BEGIN:VEVENT
DTSTART;TZID=Europe/Vienna:20240413T133000
DTEND;TZID=Europe/Vienna:20240413T150000
DTSTAMP:20260421T160434
CREATED:20240327T102042Z
LAST-MODIFIED:20240327T102515Z
UID:9369-1713015000-1713020400@dublinfilms.fr
SUMMARY:Projection de Anhell69 au Donaufestival
DESCRIPTION:Projection de Anhell69 de Theo Montoya le 21 avril à 13h30 au Kino im Kesselhaus à Krems an der Donau (Autriche)\, à l’occasion du Donaufestival.
URL:https://dublinfilms.fr/event/projection-de-anhell69-au-donaufestival/
LOCATION:Kino im Kesselhaus\, E\, Dr.-Karl-Dorrek-Straße 30\, Krems an der Donau\, 3500\, Autriche
END:VEVENT
END:VCALENDAR