BEGIN:VCALENDAR
VERSION:2.0
PRODID:-//Dublin Films - ECPv6.11.2.1//NONSGML v1.0//EN
CALSCALE:GREGORIAN
METHOD:PUBLISH
X-ORIGINAL-URL:https://dublinfilms.fr
X-WR-CALDESC:Évènements pour Dublin Films
REFRESH-INTERVAL;VALUE=DURATION:PT1H
X-Robots-Tag:noindex
X-PUBLISHED-TTL:PT1H
BEGIN:VTIMEZONE
TZID:Europe/Paris
BEGIN:DAYLIGHT
TZOFFSETFROM:+0100
TZOFFSETTO:+0200
TZNAME:CEST
DTSTART:20240331T010000
END:DAYLIGHT
BEGIN:STANDARD
TZOFFSETFROM:+0200
TZOFFSETTO:+0100
TZNAME:CET
DTSTART:20241027T010000
END:STANDARD
END:VTIMEZONE
BEGIN:VEVENT
DTSTART;TZID=Europe/Paris:20240425T193000
DTEND;TZID=Europe/Paris:20240425T210000
DTSTAMP:20260423T124035
CREATED:20240227T134122Z
LAST-MODIFIED:20240227T134851Z
UID:9050-1714073400-1714078800@dublinfilms.fr
SUMMARY:Projection de Shéol à Neuchâtel
DESCRIPTION:Projection de Shéol le 25 avril à 19h30 au cinéma Rex de Neuchâtel (Suisse). Le film fait partie du Cycle de projection dans le cadre de l’exposition Dans les camps. Archéologie de l’enfermement. se déroulant au Laténium. Elle est organisée par le Laténium\, en collaboration avec Cinepel\, Passion Cinéma et FIFDH. \nLa projection se fera en présence du réalisateur Arnaud Sauli et de Géraldine Delley\, commissaire d’exposition.
URL:https://dublinfilms.fr/event/projection-de-sheol-a-neuchatel/
LOCATION:Cinéma Rex\, 16\, Faubourg de l'Hôpital\, Neuchâtel\, 2000
END:VEVENT
END:VCALENDAR